BEGIN:VCALENDAR
VERSION:2.0
PRODID:-//Blockade Runner (Now Trailborn Surf &amp; Sound) - ECPv6.6.4.2//NONSGML v1.0//EN
CALSCALE:GREGORIAN
METHOD:PUBLISH
X-ORIGINAL-URL:https://admin.blockade-runner.com
X-WR-CALDESC:Events for Blockade Runner (Now Trailborn Surf &amp; Sound)
REFRESH-INTERVAL;VALUE=DURATION:PT1H
X-Robots-Tag:noindex
X-PUBLISHED-TTL:PT1H
BEGIN:VTIMEZONE
TZID:UTC
BEGIN:STANDARD
TZOFFSETFROM:+0000
TZOFFSETTO:+0000
TZNAME:UTC
DTSTART:20230101T000000
END:STANDARD
END:VTIMEZONE
BEGIN:VEVENT
DTSTART;VALUE=DATE:20230412
DTEND;VALUE=DATE:20230413
DTSTAMP:20260424T233807
CREATED:20230210T200621Z
LAST-MODIFIED:20230216T160858Z
UID:19771-1681257600-1681343999@admin.blockade-runner.com
SUMMARY:Azalea Festival
DESCRIPTION:The North Carolina Azalea Festival is annually held in Downtown Wilmington\, NC. The first Festival was held in 1948 and it was an instant success with thousands of attendees. This family-friendly festival is a community tradition that offers lots of fun\, entertainment\, and activities for everyone. The Azalea Festival features parades\, street fairs\, home and garden tours\, games\, live music\, children’s activities\, pageants\, and so much more. In 2023\, the five-day North Carolina Azalea Festival will take place from Wednesday\, April 12 to Sunday\, April 16. \nFind more details here.
URL:https://blockade-runner.com/event/azalea-festival/
CATEGORIES:Live music
END:VEVENT
BEGIN:VEVENT
DTSTART;VALUE=DATE:20230412
DTEND;VALUE=DATE:20230413
DTSTAMP:20260424T233807
CREATED:20230210T200621Z
LAST-MODIFIED:20230216T160858Z
UID:19771-1681257600-1681343999@admin.blockade-runner.com
SUMMARY:Azalea Festival
DESCRIPTION:The North Carolina Azalea Festival is annually held in Downtown Wilmington\, NC. The first Festival was held in 1948 and it was an instant success with thousands of attendees. This family-friendly festival is a community tradition that offers lots of fun\, entertainment\, and activities for everyone. The Azalea Festival features parades\, street fairs\, home and garden tours\, games\, live music\, children’s activities\, pageants\, and so much more. In 2023\, the five-day North Carolina Azalea Festival will take place from Wednesday\, April 12 to Sunday\, April 16. \nFind more details here.
URL:https://blockade-runner.com/event/azalea-festival/
CATEGORIES:Live music
END:VEVENT
BEGIN:VEVENT
DTSTART;VALUE=DATE:20230412
DTEND;VALUE=DATE:20230413
DTSTAMP:20260424T233807
CREATED:20230210T200621Z
LAST-MODIFIED:20230216T160858Z
UID:19771-1681257600-1681343999@admin.blockade-runner.com
SUMMARY:Azalea Festival
DESCRIPTION:The North Carolina Azalea Festival is annually held in Downtown Wilmington\, NC. The first Festival was held in 1948 and it was an instant success with thousands of attendees. This family-friendly festival is a community tradition that offers lots of fun\, entertainment\, and activities for everyone. The Azalea Festival features parades\, street fairs\, home and garden tours\, games\, live music\, children’s activities\, pageants\, and so much more. In 2023\, the five-day North Carolina Azalea Festival will take place from Wednesday\, April 12 to Sunday\, April 16. \nFind more details here.
URL:https://blockade-runner.com/event/azalea-festival/
CATEGORIES:Live music
END:VEVENT
BEGIN:VEVENT
DTSTART;VALUE=DATE:20230412
DTEND;VALUE=DATE:20230413
DTSTAMP:20260424T233807
CREATED:20230210T200621Z
LAST-MODIFIED:20230216T160858Z
UID:19771-1681257600-1681343999@admin.blockade-runner.com
SUMMARY:Azalea Festival
DESCRIPTION:The North Carolina Azalea Festival is annually held in Downtown Wilmington\, NC. The first Festival was held in 1948 and it was an instant success with thousands of attendees. This family-friendly festival is a community tradition that offers lots of fun\, entertainment\, and activities for everyone. The Azalea Festival features parades\, street fairs\, home and garden tours\, games\, live music\, children’s activities\, pageants\, and so much more. In 2023\, the five-day North Carolina Azalea Festival will take place from Wednesday\, April 12 to Sunday\, April 16. \nFind more details here.
URL:https://blockade-runner.com/event/azalea-festival/
CATEGORIES:Live music
END:VEVENT
BEGIN:VEVENT
DTSTART;VALUE=DATE:20230412
DTEND;VALUE=DATE:20230413
DTSTAMP:20260424T233807
CREATED:20230210T200621Z
LAST-MODIFIED:20230216T160858Z
UID:19771-1681257600-1681343999@admin.blockade-runner.com
SUMMARY:Azalea Festival
DESCRIPTION:The North Carolina Azalea Festival is annually held in Downtown Wilmington\, NC. The first Festival was held in 1948 and it was an instant success with thousands of attendees. This family-friendly festival is a community tradition that offers lots of fun\, entertainment\, and activities for everyone. The Azalea Festival features parades\, street fairs\, home and garden tours\, games\, live music\, children’s activities\, pageants\, and so much more. In 2023\, the five-day North Carolina Azalea Festival will take place from Wednesday\, April 12 to Sunday\, April 16. \nFind more details here.
URL:https://blockade-runner.com/event/azalea-festival/
CATEGORIES:Live music
END:VEVENT
BEGIN:VEVENT
DTSTART;VALUE=DATE:20230421
DTEND;VALUE=DATE:20230424
DTSTAMP:20260424T233807
CREATED:20230210T200146Z
LAST-MODIFIED:20230216T142631Z
UID:19763-1682035200-1682294399@admin.blockade-runner.com
SUMMARY:Carolina Pro-Am
DESCRIPTION:The Carolina Pro-Am Presented by Salt Life and Infinity Surf is a three-day Stand Up Paddle (SUP) Surf event\, drawing the world’s best Professional and Amateur Paddle Surfers along.  In addition\, CPA offers the “First Comp” division for first time sup surf competitors\, Masters Pro division (40+)\, Junior Pro 19U and the Bully Board tandem body board division for all levels of competitors and family to enjoy.  Also\, free to all entrants\, Colin McPhillips & Dave Boehne will conduct a Sup Surf Clinic on Friday\, April 21st at approximately 4:30pm at the contest site.\n\nEnjoy three days of exciting watersports combining standup paddleboarding and surfing that draws some of the best professional standup surfers to beautiful Wrightsville Beach! This spectator friendly\, world class competition also has one of the largest standup paddle surf prize purses on the East Coast.  Since 2014\, the Carolina Pro-Am has attracted some of world’s top competitors and has been covered by international media from TotalSup\, Standup Journal\, Supconnect. \nPrice:\nFree for Spectators | Registration Details on Website\nEvent Times:\nSUP Surfing Usually Fri: 9:30 AM to 4:30PM| Sat:8:20 AM to 4:30PM | Sun: 8:20 AM until 2:40PM| Sun Awards: 4:30 PM
URL:https://blockade-runner.com/event/carolina-pro-am/
LOCATION:South of Crystal Pier\, S. Lumina Ave.\, Wrightsville Beach\, NC\, 28480\, United States
CATEGORIES:Surfing,Local Events
END:VEVENT
BEGIN:VEVENT
DTSTART;VALUE=DATE:20230422
DTEND;VALUE=DATE:20230423
DTSTAMP:20260424T233807
CREATED:20230210T200541Z
LAST-MODIFIED:20240417T153319Z
UID:19770-1682121600-1682207999@admin.blockade-runner.com
SUMMARY:Earth Day
DESCRIPTION:
URL:https://blockade-runner.com/event/earth-day-3/
CATEGORIES:Holiday
END:VEVENT
BEGIN:VEVENT
DTSTART;VALUE=DATE:20230421
DTEND;VALUE=DATE:20230424
DTSTAMP:20260424T233807
CREATED:20230210T200146Z
LAST-MODIFIED:20230216T142631Z
UID:19763-1682035200-1682294399@admin.blockade-runner.com
SUMMARY:Carolina Pro-Am
DESCRIPTION:The Carolina Pro-Am Presented by Salt Life and Infinity Surf is a three-day Stand Up Paddle (SUP) Surf event\, drawing the world’s best Professional and Amateur Paddle Surfers along.  In addition\, CPA offers the “First Comp” division for first time sup surf competitors\, Masters Pro division (40+)\, Junior Pro 19U and the Bully Board tandem body board division for all levels of competitors and family to enjoy.  Also\, free to all entrants\, Colin McPhillips & Dave Boehne will conduct a Sup Surf Clinic on Friday\, April 21st at approximately 4:30pm at the contest site.\n\nEnjoy three days of exciting watersports combining standup paddleboarding and surfing that draws some of the best professional standup surfers to beautiful Wrightsville Beach! This spectator friendly\, world class competition also has one of the largest standup paddle surf prize purses on the East Coast.  Since 2014\, the Carolina Pro-Am has attracted some of world’s top competitors and has been covered by international media from TotalSup\, Standup Journal\, Supconnect. \nPrice:\nFree for Spectators | Registration Details on Website\nEvent Times:\nSUP Surfing Usually Fri: 9:30 AM to 4:30PM| Sat:8:20 AM to 4:30PM | Sun: 8:20 AM until 2:40PM| Sun Awards: 4:30 PM
URL:https://blockade-runner.com/event/carolina-pro-am/
LOCATION:South of Crystal Pier\, S. Lumina Ave.\, Wrightsville Beach\, NC\, 28480\, United States
CATEGORIES:Surfing,Local Events
END:VEVENT
BEGIN:VEVENT
DTSTART;VALUE=DATE:20230429
DTEND;VALUE=DATE:20230430
DTSTAMP:20260424T233807
CREATED:20230210T200309Z
LAST-MODIFIED:20230216T142946Z
UID:19765-1682726400-1682812799@admin.blockade-runner.com
SUMMARY:No Beach Chair Rentals
DESCRIPTION:Due to the Carolina Cup taking place on the beach in front of the Blockade Runner\, beach chairs will not be available for rental on this day.
URL:https://blockade-runner.com/event/no-beach-chair-rentals/
END:VEVENT
END:VCALENDAR