BEGIN:VCALENDAR
VERSION:2.0
PRODID:-//Blockade Runner (Now Trailborn Surf &amp; Sound) - ECPv6.6.4.2//NONSGML v1.0//EN
CALSCALE:GREGORIAN
METHOD:PUBLISH
X-WR-CALNAME:Blockade Runner (Now Trailborn Surf &amp; Sound)
X-ORIGINAL-URL:https://admin.blockade-runner.com
X-WR-CALDESC:Events for Blockade Runner (Now Trailborn Surf &amp; Sound)
REFRESH-INTERVAL;VALUE=DURATION:PT1H
X-Robots-Tag:noindex
X-PUBLISHED-TTL:PT1H
BEGIN:VTIMEZONE
TZID:America/New_York
BEGIN:DAYLIGHT
TZOFFSETFROM:-0500
TZOFFSETTO:-0400
TZNAME:EDT
DTSTART:20230312T070000
END:DAYLIGHT
BEGIN:STANDARD
TZOFFSETFROM:-0400
TZOFFSETTO:-0500
TZNAME:EST
DTSTART:20231105T060000
END:STANDARD
BEGIN:DAYLIGHT
TZOFFSETFROM:-0500
TZOFFSETTO:-0400
TZNAME:EDT
DTSTART:20240310T070000
END:DAYLIGHT
BEGIN:STANDARD
TZOFFSETFROM:-0400
TZOFFSETTO:-0500
TZNAME:EST
DTSTART:20241103T060000
END:STANDARD
TZID:UTC
BEGIN:STANDARD
TZOFFSETFROM:+0000
TZOFFSETTO:+0000
TZNAME:UTC
DTSTART:20230101T000000
END:STANDARD
END:VTIMEZONE
BEGIN:VEVENT
DTSTART;TZID=America/New_York:20230527T080000
DTEND;TZID=America/New_York:20230527T093000
DTSTAMP:20260425T200347
CREATED:20230518T153819Z
LAST-MODIFIED:20230518T153819Z
UID:20043-1685174400-1685179800@admin.blockade-runner.com
SUMMARY:SUP Yoga (Beginners)
DESCRIPTION:Take Your Yoga Practice off Land & onto the Water \n\nRates (Reservations Required)\n$40 per Person\, Ages 13 and Older\n(additional booking fees applied at checkout) \nDuration: 1-1.5 Hours \nAbout (Seasonal: Available May-Sept)\nLearn the fundamentals of paddleboarding first on land with a review of water safety and then join us in the water as we warm up with a paddle to a pristine “floating yoga studio” created with just a board and an anchor. Surrounded by nature\, we will flow through a complete yoga practice available to all levels. SUP yoga helps to build core strength and integration while cultivating awareness of the true present moment. Beginner (Floating Yoga) on Saturdays and Intermediate on Sundays (Open/Experienced Yoga) classes are available. All necessary equipment included. \nBook Now!*To arrange a private class please call to book
URL:https://blockade-runner.com/event/sup-yoga-beginners/
CATEGORIES:Yoga
END:VEVENT
BEGIN:VEVENT
DTSTART;TZID=America/New_York:20230528T093000
DTEND;TZID=America/New_York:20230528T110000
DTSTAMP:20260425T200347
CREATED:20230518T153644Z
LAST-MODIFIED:20230518T153644Z
UID:20041-1685266200-1685271600@admin.blockade-runner.com
SUMMARY:SUP Yoga (Intermediate)
DESCRIPTION:Take Your Yoga Practice off Land & onto the Water \n\nRates (Reservations Required)\n$40 per Person\, Ages 13 and Older\n(additional booking fees applied at checkout) \nDuration: 1-1.5 Hours \nAbout (Seasonal: Available May-Sept)\nLearn the fundamentals of paddleboarding first on land with a review of water safety and then join us in the water as we warm up with a paddle to a pristine “floating yoga studio” created with just a board and an anchor. Surrounded by nature\, we will flow through a complete yoga practice available to all levels. SUP yoga helps to build core strength and integration while cultivating awareness of the true present moment. Beginner (Floating Yoga) on Saturdays and Intermediate on Sundays (Open/Experienced Yoga) classes are available. All necessary equipment included. \nBook Now!*To arrange a private class please call to book
URL:https://blockade-runner.com/event/sup-yoga-intermediate/
CATEGORIES:Yoga
END:VEVENT
BEGIN:VEVENT
DTSTART;TZID=America/New_York:20231027T153000
DTEND;TZID=America/New_York:20231027T180000
DTSTAMP:20260425T200347
CREATED:20231027T194119Z
LAST-MODIFIED:20231027T194119Z
UID:20260-1698420600-1698429600@admin.blockade-runner.com
SUMMARY:Live Music: Michael Frusha
DESCRIPTION:Enjoy live music by local musician Michael Frusha.
URL:https://blockade-runner.com/event/live-music-michael-frusha/
END:VEVENT
BEGIN:VEVENT
DTSTART;TZID=America/New_York:20230527T080000
DTEND;TZID=America/New_York:20230527T093000
DTSTAMP:20260425T200347
CREATED:20230518T153819Z
LAST-MODIFIED:20230518T153819Z
UID:20043-1685174400-1685179800@admin.blockade-runner.com
SUMMARY:SUP Yoga (Beginners)
DESCRIPTION:Take Your Yoga Practice off Land & onto the Water \n\nRates (Reservations Required)\n$40 per Person\, Ages 13 and Older\n(additional booking fees applied at checkout) \nDuration: 1-1.5 Hours \nAbout (Seasonal: Available May-Sept)\nLearn the fundamentals of paddleboarding first on land with a review of water safety and then join us in the water as we warm up with a paddle to a pristine “floating yoga studio” created with just a board and an anchor. Surrounded by nature\, we will flow through a complete yoga practice available to all levels. SUP yoga helps to build core strength and integration while cultivating awareness of the true present moment. Beginner (Floating Yoga) on Saturdays and Intermediate on Sundays (Open/Experienced Yoga) classes are available. All necessary equipment included. \nBook Now!*To arrange a private class please call to book
URL:https://blockade-runner.com/event/sup-yoga-beginners/
CATEGORIES:Yoga
END:VEVENT
BEGIN:VEVENT
DTSTART;TZID=America/New_York:20230528T093000
DTEND;TZID=America/New_York:20230528T110000
DTSTAMP:20260425T200347
CREATED:20230518T153644Z
LAST-MODIFIED:20230518T153644Z
UID:20041-1685266200-1685271600@admin.blockade-runner.com
SUMMARY:SUP Yoga (Intermediate)
DESCRIPTION:Take Your Yoga Practice off Land & onto the Water \n\nRates (Reservations Required)\n$40 per Person\, Ages 13 and Older\n(additional booking fees applied at checkout) \nDuration: 1-1.5 Hours \nAbout (Seasonal: Available May-Sept)\nLearn the fundamentals of paddleboarding first on land with a review of water safety and then join us in the water as we warm up with a paddle to a pristine “floating yoga studio” created with just a board and an anchor. Surrounded by nature\, we will flow through a complete yoga practice available to all levels. SUP yoga helps to build core strength and integration while cultivating awareness of the true present moment. Beginner (Floating Yoga) on Saturdays and Intermediate on Sundays (Open/Experienced Yoga) classes are available. All necessary equipment included. \nBook Now!*To arrange a private class please call to book
URL:https://blockade-runner.com/event/sup-yoga-intermediate/
CATEGORIES:Yoga
END:VEVENT
BEGIN:VEVENT
DTSTART;TZID=America/New_York:20231029T120000
DTEND;TZID=America/New_York:20231029T150000
DTSTAMP:20260425T200347
CREATED:20231027T194708Z
LAST-MODIFIED:20231027T194708Z
UID:20266-1698580800-1698591600@admin.blockade-runner.com
SUMMARY:Live Music: Michael Frusha
DESCRIPTION:Enjoy live music by local musician Michael Frusha.
URL:https://blockade-runner.com/event/live-music-michael-frusha-3/
ATTACH;FMTTYPE=image/jpeg:https://admin.blockade-runner.com/wp-content/uploads/2023/10/Frusha2.jpg
END:VEVENT
BEGIN:VEVENT
DTSTART;TZID=America/New_York:20230527T080000
DTEND;TZID=America/New_York:20230527T093000
DTSTAMP:20260425T200347
CREATED:20230518T153819Z
LAST-MODIFIED:20230518T153819Z
UID:20043-1685174400-1685179800@admin.blockade-runner.com
SUMMARY:SUP Yoga (Beginners)
DESCRIPTION:Take Your Yoga Practice off Land & onto the Water \n\nRates (Reservations Required)\n$40 per Person\, Ages 13 and Older\n(additional booking fees applied at checkout) \nDuration: 1-1.5 Hours \nAbout (Seasonal: Available May-Sept)\nLearn the fundamentals of paddleboarding first on land with a review of water safety and then join us in the water as we warm up with a paddle to a pristine “floating yoga studio” created with just a board and an anchor. Surrounded by nature\, we will flow through a complete yoga practice available to all levels. SUP yoga helps to build core strength and integration while cultivating awareness of the true present moment. Beginner (Floating Yoga) on Saturdays and Intermediate on Sundays (Open/Experienced Yoga) classes are available. All necessary equipment included. \nBook Now!*To arrange a private class please call to book
URL:https://blockade-runner.com/event/sup-yoga-beginners/
CATEGORIES:Yoga
END:VEVENT
BEGIN:VEVENT
DTSTART;TZID=America/New_York:20230528T093000
DTEND;TZID=America/New_York:20230528T110000
DTSTAMP:20260425T200347
CREATED:20230518T153644Z
LAST-MODIFIED:20230518T153644Z
UID:20041-1685266200-1685271600@admin.blockade-runner.com
SUMMARY:SUP Yoga (Intermediate)
DESCRIPTION:Take Your Yoga Practice off Land & onto the Water \n\nRates (Reservations Required)\n$40 per Person\, Ages 13 and Older\n(additional booking fees applied at checkout) \nDuration: 1-1.5 Hours \nAbout (Seasonal: Available May-Sept)\nLearn the fundamentals of paddleboarding first on land with a review of water safety and then join us in the water as we warm up with a paddle to a pristine “floating yoga studio” created with just a board and an anchor. Surrounded by nature\, we will flow through a complete yoga practice available to all levels. SUP yoga helps to build core strength and integration while cultivating awareness of the true present moment. Beginner (Floating Yoga) on Saturdays and Intermediate on Sundays (Open/Experienced Yoga) classes are available. All necessary equipment included. \nBook Now!*To arrange a private class please call to book
URL:https://blockade-runner.com/event/sup-yoga-intermediate/
CATEGORIES:Yoga
END:VEVENT
BEGIN:VEVENT
DTSTART;TZID=America/New_York:20231029T120000
DTEND;TZID=America/New_York:20231029T150000
DTSTAMP:20260425T200347
CREATED:20231027T194708Z
LAST-MODIFIED:20231027T194708Z
UID:20266-1698580800-1698591600@admin.blockade-runner.com
SUMMARY:Live Music: Michael Frusha
DESCRIPTION:Enjoy live music by local musician Michael Frusha.
URL:https://blockade-runner.com/event/live-music-michael-frusha-3/
ATTACH;FMTTYPE=image/jpeg:https://admin.blockade-runner.com/wp-content/uploads/2023/10/Frusha2.jpg
END:VEVENT
BEGIN:VEVENT
DTSTART;TZID=America/New_York:20231029T120000
DTEND;TZID=America/New_York:20231029T150000
DTSTAMP:20260425T200347
CREATED:20231027T194708Z
LAST-MODIFIED:20231027T194708Z
UID:20266-1698580800-1698591600@admin.blockade-runner.com
SUMMARY:Live Music: Michael Frusha
DESCRIPTION:Enjoy live music by local musician Michael Frusha.
URL:https://blockade-runner.com/event/live-music-michael-frusha-3/
ATTACH;FMTTYPE=image/jpeg:https://admin.blockade-runner.com/wp-content/uploads/2023/10/Frusha2.jpg
END:VEVENT
BEGIN:VEVENT
DTSTART;TZID=America/New_York:20240202T180000
DTEND;TZID=America/New_York:20240202T200000
DTSTAMP:20260425T200347
CREATED:20240127T134933Z
LAST-MODIFIED:20240127T134933Z
UID:20383-1706896800-1706904000@admin.blockade-runner.com
SUMMARY:Live Music by Adam Fenton
DESCRIPTION:Local Jazz Musician\, Adam Fenton\, will be playing the piano in EAST Oceanfront Dining from 6-8PM.
URL:https://blockade-runner.com/event/live-music-by-adam-fenton/
CATEGORIES:Food and Beverage,Live music
END:VEVENT
BEGIN:VEVENT
DTSTART;TZID=America/New_York:20240214T170000
DTEND;TZID=America/New_York:20240214T210000
DTSTAMP:20260425T200347
CREATED:20240130T164944Z
LAST-MODIFIED:20240130T165358Z
UID:20414-1707930000-1707944400@admin.blockade-runner.com
SUMMARY:Valentine's Day Dinner
DESCRIPTION:Join us for a special Valentine’s Day Three Course Prix Fixe Dinner! Make your reservation online or by giving us a call! \nBook Now! \nCall (888) 976-0471 \nValentine’s Day Menu 2024_01
URL:https://blockade-runner.com/event/valentines-day-dinner-2/
CATEGORIES:Holiday,Food and Beverage
END:VEVENT
BEGIN:VEVENT
DTSTART;TZID=America/New_York:20240324T130000
DTEND;TZID=America/New_York:20240324T160000
DTSTAMP:20260425T200347
CREATED:20240213T151115Z
LAST-MODIFIED:20240321T192840Z
UID:20488-1711285200-1711296000@admin.blockade-runner.com
SUMMARY:60th Anniversary Party
DESCRIPTION:In celebration of the 60th Anniversary of the Blockade Runner\, we will be hosting a 60th Anniversary Party on our lawn and in the pool area! Live music from the Beehive Blondes\, food and drinks for purchase — with some fun specials with 1964 inspiration\, games on our lawn for all ages and more! Open to guests and to the public! \nHotel guests are free with room wristbands\, non-guests are $10 / children free. \nBuy your ticket here!
URL:https://blockade-runner.com/event/60th-anniversary-party/
CATEGORIES:Holiday,Food and Beverage,Live music
END:VEVENT
BEGIN:VEVENT
DTSTART;TZID=America/New_York:20240331T100000
DTEND;TZID=America/New_York:20240331T150000
DTSTAMP:20260425T200347
CREATED:20240304T193554Z
LAST-MODIFIED:20240328T135254Z
UID:20529-1711879200-1711897200@admin.blockade-runner.com
SUMMARY:Easter Brunch
DESCRIPTION:We will be serving a special menu for Easter Brunch from 10-3pm. Reservations are required and can only be made over the phone by calling the resort. \nClick here to view the menu!
URL:https://blockade-runner.com/event/easter-brunch/
CATEGORIES:Holiday,Food and Beverage
END:VEVENT
BEGIN:VEVENT
DTSTART;TZID=UTC:20240417T183000
DTEND;TZID=UTC:20240417T200000
DTSTAMP:20260425T200347
CREATED:20240417T142427Z
LAST-MODIFIED:20240417T142451Z
UID:20599-1713378600-1713384000@admin.blockade-runner.com
SUMMARY:Sunset Harbor Cruise
DESCRIPTION:The coastal waters surrounding the Blockade Runner are beautiful any time of day\, but nothing compares to the views at sunset. Hop aboard the Carolina Runner and join us for a relaxing and scenic 1.5 hour cruise where you have a front row seat to the best views of Wrightsville Beach. Don’t be surprised if your captain spots dolphins\, turtles\, seabirds and other marine life. \nBeer\, wine\, and non-alcoholic can be added to your cruise for an additional fee.  \nClick here to book
URL:https://blockade-runner.com/event/sunset-harbor-cruise/
CATEGORIES:Cruises
ATTACH;FMTTYPE=:
END:VEVENT
BEGIN:VEVENT
DTSTART;VALUE=DATE:20240419
DTEND;VALUE=DATE:20240422
DTSTAMP:20260425T200347
CREATED:20240417T152516Z
LAST-MODIFIED:20240417T152517Z
UID:20622-1713484800-1713743999@admin.blockade-runner.com
SUMMARY:Carolina Pro-Am
DESCRIPTION:The Carolina Pro-Am Presented by Salt Life and Infinity Surf is a three-day Stand Up Paddle (SUP) Surf event\, drawing the world’s best Professional and Amateur Paddle Surfers along.  In addition\, CPA offers the “First Comp” division for first time sup surf competitors\, Masters Pro division (40+)\, Junior Pro 19U and the Bully Board tandem body board division for all levels of competitors and family to enjoy.\n\nEnjoy three days of exciting watersports combining standup paddleboarding and surfing that draws some of the best professional standup surfers to beautiful Wrightsville Beach! This spectator friendly\, world class competition also has one of the largest standup paddle surf prize purses on the East Coast.  Since 2014\, the Carolina Pro-Am has attracted some of world’s top competitors and has been covered by international media from TotalSup\, Standup Journal\, Supconnect. \nPrice:\nFree for Spectators | Registration Details on Website\nEvent Times:\nSUP Surfing Usually Fri: 9:30 AM to 4:30PM| Sat:8:20 AM to 4:30PM | Sun: 8:20 AM until 2:40PM| Sun Awards: 4:30 PM
URL:https://blockade-runner.com/event/carolina-pro-am-2/
LOCATION:South of Crystal Pier\, S. Lumina Ave.\, Wrightsville Beach\, NC\, 28480\, United States
CATEGORIES:Surfing,Local Events
END:VEVENT
BEGIN:VEVENT
DTSTART;TZID=America/New_York:20240420T090000
DTEND;TZID=America/New_York:20240420T100000
DTSTAMP:20260425T200347
CREATED:20240417T153206Z
LAST-MODIFIED:20240417T153206Z
UID:20623-1713603600-1713607200@admin.blockade-runner.com
SUMMARY:Greenfield Lake Nature Walks
DESCRIPTION:Located at Greenfield Park \nADMISSION \nNo registration required | Please bring sunscreen\, insect repellent\, water and comfortable walking shoes. \nEVENT TIMES\n9:00 AM to 10:00 AM \nABOUT\nJoin the knowledgeable guides from Cape Fear Bird Observatory and their partners for a family friendly fun nature walk! Meeting at the Greenfield Lake boathouse (near the tennis courts) for an informational session usually beginning at 9:00 AM followed by a narrated 60 minute stroll around the lake looking at interesting birds\, plants\, mammals\, reptiles\, and other fascinating wild things. All are welcome! No registration required. Please bring sunscreen\, insect repellent\, water and comfortable walking shoes.
URL:https://blockade-runner.com/event/greenfield-lake-nature-walks/
CATEGORIES:Kids Activities,Local Events
END:VEVENT
BEGIN:VEVENT
DTSTART;TZID=America/New_York:20240814T100000
DTEND;TZID=America/New_York:20240814T120000
DTSTAMP:20260425T200347
CREATED:20240417T143215Z
LAST-MODIFIED:20240812T202004Z
UID:20603-1723629600-1723636800@admin.blockade-runner.com
SUMMARY:Island Hopper Cruise
DESCRIPTION:Numerous uninhabited islands dot the waters around Wrightsville Beach and during this 2 hour adventure cruise you can explore at least one of them. Start at Money Island where notorious pirate Captain Kidd is said to have buried his treasure and home to the area’s largest sand dune – perfect for sliding down; then cruise toward Masonboro Island\, the longest undisturbed barrier island ecosystem in southern North Carolina. If time allows hop off and traverse from marsh to oceanside in search of giant sea shells. On your return back to the docks\, keep an eye out for dolphins and other marine life. \nClick here to book.
URL:https://blockade-runner.com/event/island-hopper-cruise-5/
CATEGORIES:Kids Activities,Cruises
END:VEVENT
BEGIN:VEVENT
DTSTART;TZID=America/New_York:20240814T100000
DTEND;TZID=America/New_York:20240814T120000
DTSTAMP:20260425T200347
CREATED:20240417T143215Z
LAST-MODIFIED:20240812T202004Z
UID:20603-1723629600-1723636800@admin.blockade-runner.com
SUMMARY:Island Hopper Cruise
DESCRIPTION:Numerous uninhabited islands dot the waters around Wrightsville Beach and during this 2 hour adventure cruise you can explore at least one of them. Start at Money Island where notorious pirate Captain Kidd is said to have buried his treasure and home to the area’s largest sand dune – perfect for sliding down; then cruise toward Masonboro Island\, the longest undisturbed barrier island ecosystem in southern North Carolina. If time allows hop off and traverse from marsh to oceanside in search of giant sea shells. On your return back to the docks\, keep an eye out for dolphins and other marine life. \nClick here to book.
URL:https://blockade-runner.com/event/island-hopper-cruise-5/
CATEGORIES:Kids Activities,Cruises
END:VEVENT
BEGIN:VEVENT
DTSTART;VALUE=DATE:20230422
DTEND;VALUE=DATE:20230423
DTSTAMP:20260425T200347
CREATED:20230210T200541Z
LAST-MODIFIED:20240417T153319Z
UID:19770-1682121600-1682207999@admin.blockade-runner.com
SUMMARY:Earth Day
DESCRIPTION:
URL:https://blockade-runner.com/event/earth-day-3/
CATEGORIES:Holiday
END:VEVENT
BEGIN:VEVENT
DTSTART;TZID=America/New_York:20240422T130000
DTEND;TZID=America/New_York:20240422T150000
DTSTAMP:20260425T200347
CREATED:20240417T143339Z
LAST-MODIFIED:20240417T143339Z
UID:20605-1713790800-1713798000@admin.blockade-runner.com
SUMMARY:Island Hopper Cruise
DESCRIPTION:Numerous uninhabited islands dot the waters around Wrightsville Beach and during this 2 hour adventure cruise you can explore at least one of them. Start at Money Island where notorious pirate Captain Kidd is said to have buried his treasure and home to the area’s largest sand dune – perfect for sliding down; then cruise toward Masonboro Island\, the longest undisturbed barrier island ecosystem in southern North Carolina. If time allows hop off and traverse from marsh to oceanside in search of giant sea shells. On your return back to the docks\, keep an eye out for dolphins and other marine life. \nClick here to book.
URL:https://blockade-runner.com/event/island-hopper-cruise-6/
CATEGORIES:Kids Activities,Cruises
END:VEVENT
BEGIN:VEVENT
DTSTART;VALUE=DATE:20240424
DTEND;VALUE=DATE:20240428
DTSTAMP:20260425T200347
CREATED:20230210T200246Z
LAST-MODIFIED:20240408T195923Z
UID:19764-1713916800-1714262399@admin.blockade-runner.com
SUMMARY:Carolina Cup 2024
DESCRIPTION:Offering several days of SUP (standup paddleboard) clinics\, expos and demos including weekend races\, bring the whole family for this amazing time and cheer on incredible athletes in exciting races! All races begin at the Blockade Runner! On Saturday: a 3.5-mile Harbor Island Recreational Race\, a 6.5-mile Money Island Open Race\, and the dreaded 13-mile Graveyard Elite Race and the Graveyard Elite Outrigger and Surfski Race. One of the largest\, most competitive SUP races in the world\, as well as the largest race on the East Coast\, this is often one of the qualifying races for the World APP & WPA SUP Series.\n\nYou do not have to race to take a clinic or take a clinic to race. Spectators are invited enjoy the expo and demos along with races.\n \nPrice:\nFree for Spectators | Registration details on Website closer to event\nSee website for full schedule of events https://paddleguru.com/races/CarolinaCup2024
URL:https://blockade-runner.com/event/carolina-cup-3/
CATEGORIES:Surfing,Local Events
END:VEVENT
BEGIN:VEVENT
DTSTART;TZID=America/New_York:20240424T080000
DTEND;TZID=America/New_York:20240424T100000
DTSTAMP:20260425T200347
CREATED:20240417T154901Z
LAST-MODIFIED:20240417T154901Z
UID:20647-1713945600-1713952800@admin.blockade-runner.com
SUMMARY:Carolina Beach Bird Walk
DESCRIPTION:Explore Carolina Beach State Park on a guided bird walk led by park staff along Snows Cut Trail.  No previous experience is necessary. Beginning at the Marina\, the easy hike will be approximately two miles long over flat terrain lasting approximately two hours. Both novice and avid birders will enjoy the adventure of finding resident and visiting birds in the beautiful terrain. Be sure to bring your own sunscreen\, binoculars\, drinking water\, and insect repellent. \nFree to attend
URL:https://blockade-runner.com/event/carolina-beach-bird-walk/
CATEGORIES:Monthly Events,Local Events
END:VEVENT
BEGIN:VEVENT
DTSTART;TZID=America/New_York:20240814T100000
DTEND;TZID=America/New_York:20240814T120000
DTSTAMP:20260425T200347
CREATED:20240417T143215Z
LAST-MODIFIED:20240812T202004Z
UID:20603-1723629600-1723636800@admin.blockade-runner.com
SUMMARY:Island Hopper Cruise
DESCRIPTION:Numerous uninhabited islands dot the waters around Wrightsville Beach and during this 2 hour adventure cruise you can explore at least one of them. Start at Money Island where notorious pirate Captain Kidd is said to have buried his treasure and home to the area’s largest sand dune – perfect for sliding down; then cruise toward Masonboro Island\, the longest undisturbed barrier island ecosystem in southern North Carolina. If time allows hop off and traverse from marsh to oceanside in search of giant sea shells. On your return back to the docks\, keep an eye out for dolphins and other marine life. \nClick here to book.
URL:https://blockade-runner.com/event/island-hopper-cruise-5/
CATEGORIES:Kids Activities,Cruises
END:VEVENT
BEGIN:VEVENT
DTSTART;TZID=UTC:20240417T183000
DTEND;TZID=UTC:20240417T200000
DTSTAMP:20260425T200347
CREATED:20240417T142427Z
LAST-MODIFIED:20240417T142451Z
UID:20599-1713378600-1713384000@admin.blockade-runner.com
SUMMARY:Sunset Harbor Cruise
DESCRIPTION:The coastal waters surrounding the Blockade Runner are beautiful any time of day\, but nothing compares to the views at sunset. Hop aboard the Carolina Runner and join us for a relaxing and scenic 1.5 hour cruise where you have a front row seat to the best views of Wrightsville Beach. Don’t be surprised if your captain spots dolphins\, turtles\, seabirds and other marine life. \nBeer\, wine\, and non-alcoholic can be added to your cruise for an additional fee.  \nClick here to book
URL:https://blockade-runner.com/event/sunset-harbor-cruise/
CATEGORIES:Cruises
ATTACH;FMTTYPE=:
END:VEVENT
BEGIN:VEVENT
DTSTART;TZID=America/New_York:20240422T130000
DTEND;TZID=America/New_York:20240422T150000
DTSTAMP:20260425T200347
CREATED:20240417T143339Z
LAST-MODIFIED:20240417T143339Z
UID:20605-1713790800-1713798000@admin.blockade-runner.com
SUMMARY:Island Hopper Cruise
DESCRIPTION:Numerous uninhabited islands dot the waters around Wrightsville Beach and during this 2 hour adventure cruise you can explore at least one of them. Start at Money Island where notorious pirate Captain Kidd is said to have buried his treasure and home to the area’s largest sand dune – perfect for sliding down; then cruise toward Masonboro Island\, the longest undisturbed barrier island ecosystem in southern North Carolina. If time allows hop off and traverse from marsh to oceanside in search of giant sea shells. On your return back to the docks\, keep an eye out for dolphins and other marine life. \nClick here to book.
URL:https://blockade-runner.com/event/island-hopper-cruise-6/
CATEGORIES:Kids Activities,Cruises
END:VEVENT
BEGIN:VEVENT
DTSTART;TZID=America/New_York:20240426T180000
DTEND;TZID=America/New_York:20240426T200000
DTSTAMP:20260425T200347
CREATED:20240408T195711Z
LAST-MODIFIED:20240408T195711Z
UID:20575-1714154400-1714161600@admin.blockade-runner.com
SUMMARY:Live Music by Adam Fenton
DESCRIPTION:Local Jazz Musician\, Adam Fenton\, will be playing the piano in EAST Oceanfront Dining from 6-8PM.
URL:https://blockade-runner.com/event/live-music-by-adam-fenton-2/
CATEGORIES:Food and Beverage,Live music
END:VEVENT
BEGIN:VEVENT
DTSTART;TZID=America/New_York:20240426T200000
DTEND;TZID=America/New_York:20240426T220000
DTSTAMP:20260425T200347
CREATED:20240417T155244Z
LAST-MODIFIED:20240417T155244Z
UID:20649-1714161600-1714168800@admin.blockade-runner.com
SUMMARY:Kure Beach Outdoor Movie
DESCRIPTION:Enjoy free Friday night family fun with a rollicking outdoor Pirate movie!  Delight in the first movie that started the Pirates of the Caribbean series: Curse of the Black Pearl with some of your favorite scallywags on the outdoor giant screen as part of their first Ocean Front Flicks Series. Grab your lawn chair or blanket for some free family-friendly entertainment at Kure Beach Ocean Front Park. Pirates of the Caribbean movies shown April 26th: Curse of the Black Pearl\, May 3rd: Dead Man’s Chest; and May 10th At World’s End.  Come early for the best view! \nFree for spectators| Films rated PG-13 \nKure Beach Ocean Front Park & Pavilion\n105 Atlantic Avenue\nKure Beach\, NC 28449\n(910) 458-8216
URL:https://blockade-runner.com/event/kure-beach-outdoor-movie/
CATEGORIES:Kids Activities,Local Events
END:VEVENT
BEGIN:VEVENT
DTSTART;TZID=America/New_York:20240814T100000
DTEND;TZID=America/New_York:20240814T120000
DTSTAMP:20260425T200347
CREATED:20240417T143215Z
LAST-MODIFIED:20240812T202004Z
UID:20603-1723629600-1723636800@admin.blockade-runner.com
SUMMARY:Island Hopper Cruise
DESCRIPTION:Numerous uninhabited islands dot the waters around Wrightsville Beach and during this 2 hour adventure cruise you can explore at least one of them. Start at Money Island where notorious pirate Captain Kidd is said to have buried his treasure and home to the area’s largest sand dune – perfect for sliding down; then cruise toward Masonboro Island\, the longest undisturbed barrier island ecosystem in southern North Carolina. If time allows hop off and traverse from marsh to oceanside in search of giant sea shells. On your return back to the docks\, keep an eye out for dolphins and other marine life. \nClick here to book.
URL:https://blockade-runner.com/event/island-hopper-cruise-5/
CATEGORIES:Kids Activities,Cruises
END:VEVENT
BEGIN:VEVENT
DTSTART;TZID=America/New_York:20240814T100000
DTEND;TZID=America/New_York:20240814T120000
DTSTAMP:20260425T200347
CREATED:20240417T143215Z
LAST-MODIFIED:20240812T202004Z
UID:20603-1723629600-1723636800@admin.blockade-runner.com
SUMMARY:Island Hopper Cruise
DESCRIPTION:Numerous uninhabited islands dot the waters around Wrightsville Beach and during this 2 hour adventure cruise you can explore at least one of them. Start at Money Island where notorious pirate Captain Kidd is said to have buried his treasure and home to the area’s largest sand dune – perfect for sliding down; then cruise toward Masonboro Island\, the longest undisturbed barrier island ecosystem in southern North Carolina. If time allows hop off and traverse from marsh to oceanside in search of giant sea shells. On your return back to the docks\, keep an eye out for dolphins and other marine life. \nClick here to book.
URL:https://blockade-runner.com/event/island-hopper-cruise-5/
CATEGORIES:Kids Activities,Cruises
END:VEVENT
END:VCALENDAR