BEGIN:VCALENDAR
VERSION:2.0
PRODID:-//Blockade Runner (Now Trailborn Surf &amp; Sound) - ECPv6.6.4.2//NONSGML v1.0//EN
CALSCALE:GREGORIAN
METHOD:PUBLISH
X-WR-CALNAME:Blockade Runner (Now Trailborn Surf &amp; Sound)
X-ORIGINAL-URL:https://admin.blockade-runner.com
X-WR-CALDESC:Events for Blockade Runner (Now Trailborn Surf &amp; Sound)
REFRESH-INTERVAL;VALUE=DURATION:PT1H
X-Robots-Tag:noindex
X-PUBLISHED-TTL:PT1H
BEGIN:VTIMEZONE
TZID:America/New_York
BEGIN:DAYLIGHT
TZOFFSETFROM:-0500
TZOFFSETTO:-0400
TZNAME:EDT
DTSTART:20230312T070000
END:DAYLIGHT
BEGIN:STANDARD
TZOFFSETFROM:-0400
TZOFFSETTO:-0500
TZNAME:EST
DTSTART:20231105T060000
END:STANDARD
END:VTIMEZONE
BEGIN:VEVENT
DTSTART;TZID=America/New_York:20230605T090000
DTEND;TZID=America/New_York:20230605T130000
DTSTAMP:20260425T102838
CREATED:20230216T152402Z
LAST-MODIFIED:20230818T192405Z
UID:19820-1685955600-1685970000@admin.blockade-runner.com
SUMMARY:Sandcampers Kayaking
DESCRIPTION:Get up close and personal with the wildlife on the Soundside. After a brief safety talk\, campers will load up in kayaks head towards the marsh\, where they will learn about pluff mud\, oyster beds\, marine life and much\, much more. Upon return to the Soundside\, campers will enjoy lunch and games before heading back to meet their parents. \nBook Here!
URL:https://blockade-runner.com/event/sandcampers-kayaking/
CATEGORIES:Kids Activities
END:VEVENT
BEGIN:VEVENT
DTSTART;TZID=America/New_York:20230530T090000
DTEND;TZID=America/New_York:20230530T130000
DTSTAMP:20260425T102838
CREATED:20230216T153150Z
LAST-MODIFIED:20230818T192320Z
UID:19823-1685437200-1685451600@admin.blockade-runner.com
SUMMARY:Sandcampers Surfing or SUP
DESCRIPTION:Ages 6 & 7 will use body boards\nAges 8-12 have the option to surf on a board or play on body boards.\n\nRash guards and lunch included.\n\nDuration\n4 hours: 9a-1p (Total surfing time will be a maximum of 1.5 hours)\n\nAbout\nTake advantage of one of the area’s most amazing resources and join our Sandcampers Surfing 1/2 day camp. Wake-up to the waves breaking directly in front of the resort\, and learn the basics of surfing or body boarding. The BR Surf Instructors will provide a safe learning experience\, offering a 2:1 student to instructor ratio and a max of 4 students.\n\nRestrictions\nAll participants must be resort guests\, proficient swimmers and at least 6 years old.\n\nBook Here!
URL:https://blockade-runner.com/event/sandcampers-surfing/
CATEGORIES:Kids Activities
END:VEVENT
BEGIN:VEVENT
DTSTART;TZID=America/New_York:20230601T090000
DTEND;TZID=America/New_York:20230601T130000
DTSTAMP:20260425T102838
CREATED:20230216T151143Z
LAST-MODIFIED:20230216T152839Z
UID:19813-1685610000-1685624400@admin.blockade-runner.com
SUMMARY:Sandcampers Touch Tank
DESCRIPTION:Explore and discover life on the Soundside. With the assistance of the Blockade Runner Sandcamper Counselor\, each child will be able to create their own touch tank on the Soundside. Cannonball jellyfish\, hermit crabs\, red and green algae\, and other coastal critters can be found to fill up the tank. Finish the day off with games on the sound and a boxed lunch.  \nBook Here!
URL:https://blockade-runner.com/event/sandcampers-touch-tank/
CATEGORIES:Kids Activities
END:VEVENT
BEGIN:VEVENT
DTSTART;TZID=America/New_York:20230629T153000
DTEND;TZID=America/New_York:20230629T163000
DTSTAMP:20260425T102838
CREATED:20230216T153356Z
LAST-MODIFIED:20230216T153356Z
UID:19826-1688052600-1688056200@admin.blockade-runner.com
SUMMARY:Beach Sweep by the BR GreenTeam
DESCRIPTION:Join the Blockade Runner Green Team as we keep our beaches clean! \nOur in-house green team is volunteer-based and eager to share their time to assist in hotel-wide audits\, training\, and volunteer opportunities within the community. To-date\, we have built 60 feet of oyster reef\, logged 101 volunteer hours\, collected 200 bags of oyster shells\, and sorted 1\,000 pounds of food and 1\,868 pounds of trash.
URL:https://blockade-runner.com/event/beach-sweep-by-the-br-greenteam-3/
CATEGORIES:#greenersideofBR
END:VEVENT
BEGIN:VEVENT
DTSTART;VALUE=DATE:20230630
DTEND;VALUE=DATE:20230705
DTSTAMP:20260425T102838
CREATED:20230626T145425Z
LAST-MODIFIED:20230630T150536Z
UID:20094-1688083200-1688515199@admin.blockade-runner.com
SUMMARY:Fourth of July Activities!
DESCRIPTION:Fourth of July Weekend Activities!\n\nClick on any item to reserve or book! \nFriday 6/30\n•	1pm Island Hopper Cruise\n•	7pm Sunset Harbor Cruise\n•	7-10pm Wood Fire Pit (s’mores available from 7:30-8:30pm) \nSaturday 7/1\n•	8am Seaside Yoga\n•	8am SUP Yoga\n•	9am Masonboro Adventure Sail\n•	10am Island Hopper\n•	11am Animal Encounters (free)\n•	1pm Masonboro Adventure Sail\n•	1pm Cannonball Contest\n•	4pm Watermelon Eating Contest\n•	7pm Sunset Harbor Cruise\n•	7:30pm Pick-up Soccer on the big lawn \nSunday 7/2\n•	9am Eco Paddle Tour\n•	9am Masonboro Adventure Sail\n•	9:30am SUP Yoga\n•	10am Island Hopper\n•	11am Sandcastle Challenge\n•	2pm Kid’s Craft on the Lawn (free)\n•	2pm Masonboro Adventure Sail\n•	4pm Kid’s Relay Race\n•	7pm Sunset Harbor Cruise\n•	7-10pm Wood Fire Pit (s’mores available from 7:30-8:30pm) \nMonday 7/3\n•	9am Sandcampers Kayaking Camp\n•	11am Line Dancing on the Lawn with The Twins\n•	1pm Island Hopper\n•	1pm Balloon Toss\n•	6:30pm Sunset YIN Yoga\n•	7pm Sunset Harbor Cruise \nTuesday 7/4\n•	9am Shark Tooth Hunting Course on the Beach\n•	9am Eco Paddle Tour\n•	9am Masonboro Adventure Sail\n•	10am Island Hopper\n•	12-6pm Cookout on the Lawn\n•	1pm Giant Bubbles on the Lawn\n•	1-3:30pm Live Music by Michael Barbee\n•	3pm Watermelon Eating Contest \nWeekend Rentals\n•	8am-1pm Kayaks and Paddleboards\n•	7am – 5pm Surfboards\n•	9am – 5pm Beach Chairs/Umbrellas (book through our concierge)\n•	9am – 7pm Cabanas
URL:https://blockade-runner.com/event/fourth-of-july-activities/
CATEGORIES:Holiday
END:VEVENT
BEGIN:VEVENT
DTSTART;TZID=America/New_York:20230527T080000
DTEND;TZID=America/New_York:20230527T093000
DTSTAMP:20260425T102838
CREATED:20230518T153819Z
LAST-MODIFIED:20230518T153819Z
UID:20043-1685174400-1685179800@admin.blockade-runner.com
SUMMARY:SUP Yoga (Beginners)
DESCRIPTION:Take Your Yoga Practice off Land & onto the Water \n\nRates (Reservations Required)\n$40 per Person\, Ages 13 and Older\n(additional booking fees applied at checkout) \nDuration: 1-1.5 Hours \nAbout (Seasonal: Available May-Sept)\nLearn the fundamentals of paddleboarding first on land with a review of water safety and then join us in the water as we warm up with a paddle to a pristine “floating yoga studio” created with just a board and an anchor. Surrounded by nature\, we will flow through a complete yoga practice available to all levels. SUP yoga helps to build core strength and integration while cultivating awareness of the true present moment. Beginner (Floating Yoga) on Saturdays and Intermediate on Sundays (Open/Experienced Yoga) classes are available. All necessary equipment included. \nBook Now!*To arrange a private class please call to book
URL:https://blockade-runner.com/event/sup-yoga-beginners/
CATEGORIES:Yoga
END:VEVENT
BEGIN:VEVENT
DTSTART;TZID=America/New_York:20230527T110000
DTEND;TZID=America/New_York:20230527T120000
DTSTAMP:20260425T102838
CREATED:20230216T145332Z
LAST-MODIFIED:20230518T161005Z
UID:19802-1685185200-1685188800@admin.blockade-runner.com
SUMMARY:Animal Encounters
DESCRIPTION:Enjoy a Show & Tell Experience \nAnimal Encounters is an outreach program through our local aquarium\, NC Aquarium at Fort Fisher. Come join us on Saturdays as the aquarium educators deliver engaging programs on living seashells\, fantastic fish\, jellies\, sea turtles\, and more.\n\nFree to resort guests! \nBook Now!
URL:https://blockade-runner.com/event/animal-encounters/
CATEGORIES:Kids Activities
END:VEVENT
BEGIN:VEVENT
DTSTART;TZID=America/New_York:20230701T160000
DTEND;TZID=America/New_York:20230701T170000
DTSTAMP:20260425T102838
CREATED:20230216T153638Z
LAST-MODIFIED:20230622T192157Z
UID:19828-1688227200-1688230800@admin.blockade-runner.com
SUMMARY:Watermelon Eating Contest
DESCRIPTION:Located on the Lawn. Please sign up by visiting the concierge desk in the Lobby.
URL:https://blockade-runner.com/event/kids-tie-dye-shirt-craft/
CATEGORIES:Kids Activities
END:VEVENT
BEGIN:VEVENT
DTSTART;TZID=America/New_York:20230701T193000
DTEND;TZID=America/New_York:20230701T203000
DTSTAMP:20260425T102838
CREATED:20230216T154657Z
LAST-MODIFIED:20230622T192318Z
UID:19840-1688239800-1688243400@admin.blockade-runner.com
SUMMARY:Pick-Up Soccer Game
DESCRIPTION:Located on the Lawn. Open to all ages.
URL:https://blockade-runner.com/event/pick-up-soccer-game/
END:VEVENT
BEGIN:VEVENT
DTSTART;TZID=America/New_York:20230528T093000
DTEND;TZID=America/New_York:20230528T110000
DTSTAMP:20260425T102838
CREATED:20230518T153644Z
LAST-MODIFIED:20230518T153644Z
UID:20041-1685266200-1685271600@admin.blockade-runner.com
SUMMARY:SUP Yoga (Intermediate)
DESCRIPTION:Take Your Yoga Practice off Land & onto the Water \n\nRates (Reservations Required)\n$40 per Person\, Ages 13 and Older\n(additional booking fees applied at checkout) \nDuration: 1-1.5 Hours \nAbout (Seasonal: Available May-Sept)\nLearn the fundamentals of paddleboarding first on land with a review of water safety and then join us in the water as we warm up with a paddle to a pristine “floating yoga studio” created with just a board and an anchor. Surrounded by nature\, we will flow through a complete yoga practice available to all levels. SUP yoga helps to build core strength and integration while cultivating awareness of the true present moment. Beginner (Floating Yoga) on Saturdays and Intermediate on Sundays (Open/Experienced Yoga) classes are available. All necessary equipment included. \nBook Now!*To arrange a private class please call to book
URL:https://blockade-runner.com/event/sup-yoga-intermediate/
CATEGORIES:Yoga
END:VEVENT
BEGIN:VEVENT
DTSTART;TZID=America/New_York:20230702T110000
DTEND;TZID=America/New_York:20230702T120000
DTSTAMP:20260425T102838
CREATED:20230216T153838Z
LAST-MODIFIED:20230216T153838Z
UID:19830-1688295600-1688299200@admin.blockade-runner.com
SUMMARY:Sandcastle Challenge
DESCRIPTION:Kids will get the chance to test their skills in our sandcastle challenge on the beach in front of the Blockade Runner!
URL:https://blockade-runner.com/event/sandcastle-challenge/
CATEGORIES:Kids Activities
END:VEVENT
BEGIN:VEVENT
DTSTART;TZID=America/New_York:20230702T140000
DTEND;TZID=America/New_York:20230702T150000
DTSTAMP:20260425T102838
CREATED:20230622T192959Z
LAST-MODIFIED:20230622T192959Z
UID:20087-1688306400-1688310000@admin.blockade-runner.com
SUMMARY:Kid's Craft
DESCRIPTION:Located on the Lawn. Sign up by visiting the concierge desk!
URL:https://blockade-runner.com/event/kids-craft/
CATEGORIES:Kids Activities
END:VEVENT
BEGIN:VEVENT
DTSTART;TZID=America/New_York:20230702T160000
DTEND;TZID=America/New_York:20230702T170000
DTSTAMP:20260425T102838
CREATED:20230216T153941Z
LAST-MODIFIED:20230622T192922Z
UID:19831-1688313600-1688317200@admin.blockade-runner.com
SUMMARY:Kid's Relay Race
DESCRIPTION:Located on the Lawn. No signup required.
URL:https://blockade-runner.com/event/kids-limbo-and-sack-races/
CATEGORIES:Kids Activities
END:VEVENT
BEGIN:VEVENT
DTSTART;VALUE=DATE:20230703
DTEND;VALUE=DATE:20230704
DTSTAMP:20260425T102838
CREATED:20230216T154119Z
LAST-MODIFIED:20230216T154119Z
UID:19833-1688342400-1688428799@admin.blockade-runner.com
SUMMARY:Full Moon - Buck Moon
DESCRIPTION:
URL:https://blockade-runner.com/event/full-moon-buck-moon/
END:VEVENT
BEGIN:VEVENT
DTSTART;VALUE=DATE:20230704
DTEND;VALUE=DATE:20230705
DTSTAMP:20260425T102838
CREATED:20230216T154138Z
LAST-MODIFIED:20230216T154138Z
UID:19834-1688428800-1688515199@admin.blockade-runner.com
SUMMARY:Independence Day
DESCRIPTION:
URL:https://blockade-runner.com/event/independence-day/
CATEGORIES:Holiday
END:VEVENT
BEGIN:VEVENT
DTSTART;TZID=America/New_York:20230704T140000
DTEND;TZID=America/New_York:20230704T160000
DTSTAMP:20260425T102838
CREATED:20230622T193202Z
LAST-MODIFIED:20230622T193202Z
UID:20089-1688479200-1688486400@admin.blockade-runner.com
SUMMARY:Cook Out on the Lawn
DESCRIPTION:
URL:https://blockade-runner.com/event/cook-out-on-the-lawn-2/
CATEGORIES:Holiday,Food and Beverage
END:VEVENT
BEGIN:VEVENT
DTSTART;TZID=America/New_York:20230601T090000
DTEND;TZID=America/New_York:20230601T130000
DTSTAMP:20260425T102838
CREATED:20230216T151143Z
LAST-MODIFIED:20230216T152839Z
UID:19813-1685610000-1685624400@admin.blockade-runner.com
SUMMARY:Sandcampers Touch Tank
DESCRIPTION:Explore and discover life on the Soundside. With the assistance of the Blockade Runner Sandcamper Counselor\, each child will be able to create their own touch tank on the Soundside. Cannonball jellyfish\, hermit crabs\, red and green algae\, and other coastal critters can be found to fill up the tank. Finish the day off with games on the sound and a boxed lunch.  \nBook Here!
URL:https://blockade-runner.com/event/sandcampers-touch-tank/
CATEGORIES:Kids Activities
END:VEVENT
BEGIN:VEVENT
DTSTART;TZID=America/New_York:20230527T080000
DTEND;TZID=America/New_York:20230527T093000
DTSTAMP:20260425T102838
CREATED:20230518T153819Z
LAST-MODIFIED:20230518T153819Z
UID:20043-1685174400-1685179800@admin.blockade-runner.com
SUMMARY:SUP Yoga (Beginners)
DESCRIPTION:Take Your Yoga Practice off Land & onto the Water \n\nRates (Reservations Required)\n$40 per Person\, Ages 13 and Older\n(additional booking fees applied at checkout) \nDuration: 1-1.5 Hours \nAbout (Seasonal: Available May-Sept)\nLearn the fundamentals of paddleboarding first on land with a review of water safety and then join us in the water as we warm up with a paddle to a pristine “floating yoga studio” created with just a board and an anchor. Surrounded by nature\, we will flow through a complete yoga practice available to all levels. SUP yoga helps to build core strength and integration while cultivating awareness of the true present moment. Beginner (Floating Yoga) on Saturdays and Intermediate on Sundays (Open/Experienced Yoga) classes are available. All necessary equipment included. \nBook Now!*To arrange a private class please call to book
URL:https://blockade-runner.com/event/sup-yoga-beginners/
CATEGORIES:Yoga
END:VEVENT
BEGIN:VEVENT
DTSTART;TZID=America/New_York:20230527T110000
DTEND;TZID=America/New_York:20230527T120000
DTSTAMP:20260425T102838
CREATED:20230216T145332Z
LAST-MODIFIED:20230518T161005Z
UID:19802-1685185200-1685188800@admin.blockade-runner.com
SUMMARY:Animal Encounters
DESCRIPTION:Enjoy a Show & Tell Experience \nAnimal Encounters is an outreach program through our local aquarium\, NC Aquarium at Fort Fisher. Come join us on Saturdays as the aquarium educators deliver engaging programs on living seashells\, fantastic fish\, jellies\, sea turtles\, and more.\n\nFree to resort guests! \nBook Now!
URL:https://blockade-runner.com/event/animal-encounters/
CATEGORIES:Kids Activities
END:VEVENT
BEGIN:VEVENT
DTSTART;TZID=America/New_York:20230528T093000
DTEND;TZID=America/New_York:20230528T110000
DTSTAMP:20260425T102838
CREATED:20230518T153644Z
LAST-MODIFIED:20230518T153644Z
UID:20041-1685266200-1685271600@admin.blockade-runner.com
SUMMARY:SUP Yoga (Intermediate)
DESCRIPTION:Take Your Yoga Practice off Land & onto the Water \n\nRates (Reservations Required)\n$40 per Person\, Ages 13 and Older\n(additional booking fees applied at checkout) \nDuration: 1-1.5 Hours \nAbout (Seasonal: Available May-Sept)\nLearn the fundamentals of paddleboarding first on land with a review of water safety and then join us in the water as we warm up with a paddle to a pristine “floating yoga studio” created with just a board and an anchor. Surrounded by nature\, we will flow through a complete yoga practice available to all levels. SUP yoga helps to build core strength and integration while cultivating awareness of the true present moment. Beginner (Floating Yoga) on Saturdays and Intermediate on Sundays (Open/Experienced Yoga) classes are available. All necessary equipment included. \nBook Now!*To arrange a private class please call to book
URL:https://blockade-runner.com/event/sup-yoga-intermediate/
CATEGORIES:Yoga
END:VEVENT
BEGIN:VEVENT
DTSTART;TZID=America/New_York:20230605T090000
DTEND;TZID=America/New_York:20230605T130000
DTSTAMP:20260425T102838
CREATED:20230216T152402Z
LAST-MODIFIED:20230818T192405Z
UID:19820-1685955600-1685970000@admin.blockade-runner.com
SUMMARY:Sandcampers Kayaking
DESCRIPTION:Get up close and personal with the wildlife on the Soundside. After a brief safety talk\, campers will load up in kayaks head towards the marsh\, where they will learn about pluff mud\, oyster beds\, marine life and much\, much more. Upon return to the Soundside\, campers will enjoy lunch and games before heading back to meet their parents. \nBook Here!
URL:https://blockade-runner.com/event/sandcampers-kayaking/
CATEGORIES:Kids Activities
END:VEVENT
BEGIN:VEVENT
DTSTART;TZID=America/New_York:20230530T090000
DTEND;TZID=America/New_York:20230530T130000
DTSTAMP:20260425T102838
CREATED:20230216T153150Z
LAST-MODIFIED:20230818T192320Z
UID:19823-1685437200-1685451600@admin.blockade-runner.com
SUMMARY:Sandcampers Surfing or SUP
DESCRIPTION:Ages 6 & 7 will use body boards\nAges 8-12 have the option to surf on a board or play on body boards.\n\nRash guards and lunch included.\n\nDuration\n4 hours: 9a-1p (Total surfing time will be a maximum of 1.5 hours)\n\nAbout\nTake advantage of one of the area’s most amazing resources and join our Sandcampers Surfing 1/2 day camp. Wake-up to the waves breaking directly in front of the resort\, and learn the basics of surfing or body boarding. The BR Surf Instructors will provide a safe learning experience\, offering a 2:1 student to instructor ratio and a max of 4 students.\n\nRestrictions\nAll participants must be resort guests\, proficient swimmers and at least 6 years old.\n\nBook Here!
URL:https://blockade-runner.com/event/sandcampers-surfing/
CATEGORIES:Kids Activities
END:VEVENT
BEGIN:VEVENT
DTSTART;TZID=America/New_York:20230601T090000
DTEND;TZID=America/New_York:20230601T130000
DTSTAMP:20260425T102838
CREATED:20230216T151143Z
LAST-MODIFIED:20230216T152839Z
UID:19813-1685610000-1685624400@admin.blockade-runner.com
SUMMARY:Sandcampers Touch Tank
DESCRIPTION:Explore and discover life on the Soundside. With the assistance of the Blockade Runner Sandcamper Counselor\, each child will be able to create their own touch tank on the Soundside. Cannonball jellyfish\, hermit crabs\, red and green algae\, and other coastal critters can be found to fill up the tank. Finish the day off with games on the sound and a boxed lunch.  \nBook Here!
URL:https://blockade-runner.com/event/sandcampers-touch-tank/
CATEGORIES:Kids Activities
END:VEVENT
BEGIN:VEVENT
DTSTART;TZID=America/New_York:20230527T080000
DTEND;TZID=America/New_York:20230527T093000
DTSTAMP:20260425T102838
CREATED:20230518T153819Z
LAST-MODIFIED:20230518T153819Z
UID:20043-1685174400-1685179800@admin.blockade-runner.com
SUMMARY:SUP Yoga (Beginners)
DESCRIPTION:Take Your Yoga Practice off Land & onto the Water \n\nRates (Reservations Required)\n$40 per Person\, Ages 13 and Older\n(additional booking fees applied at checkout) \nDuration: 1-1.5 Hours \nAbout (Seasonal: Available May-Sept)\nLearn the fundamentals of paddleboarding first on land with a review of water safety and then join us in the water as we warm up with a paddle to a pristine “floating yoga studio” created with just a board and an anchor. Surrounded by nature\, we will flow through a complete yoga practice available to all levels. SUP yoga helps to build core strength and integration while cultivating awareness of the true present moment. Beginner (Floating Yoga) on Saturdays and Intermediate on Sundays (Open/Experienced Yoga) classes are available. All necessary equipment included. \nBook Now!*To arrange a private class please call to book
URL:https://blockade-runner.com/event/sup-yoga-beginners/
CATEGORIES:Yoga
END:VEVENT
BEGIN:VEVENT
DTSTART;TZID=America/New_York:20230527T110000
DTEND;TZID=America/New_York:20230527T120000
DTSTAMP:20260425T102838
CREATED:20230216T145332Z
LAST-MODIFIED:20230518T161005Z
UID:19802-1685185200-1685188800@admin.blockade-runner.com
SUMMARY:Animal Encounters
DESCRIPTION:Enjoy a Show & Tell Experience \nAnimal Encounters is an outreach program through our local aquarium\, NC Aquarium at Fort Fisher. Come join us on Saturdays as the aquarium educators deliver engaging programs on living seashells\, fantastic fish\, jellies\, sea turtles\, and more.\n\nFree to resort guests! \nBook Now!
URL:https://blockade-runner.com/event/animal-encounters/
CATEGORIES:Kids Activities
END:VEVENT
BEGIN:VEVENT
DTSTART;TZID=America/New_York:20230528T093000
DTEND;TZID=America/New_York:20230528T110000
DTSTAMP:20260425T102838
CREATED:20230518T153644Z
LAST-MODIFIED:20230518T153644Z
UID:20041-1685266200-1685271600@admin.blockade-runner.com
SUMMARY:SUP Yoga (Intermediate)
DESCRIPTION:Take Your Yoga Practice off Land & onto the Water \n\nRates (Reservations Required)\n$40 per Person\, Ages 13 and Older\n(additional booking fees applied at checkout) \nDuration: 1-1.5 Hours \nAbout (Seasonal: Available May-Sept)\nLearn the fundamentals of paddleboarding first on land with a review of water safety and then join us in the water as we warm up with a paddle to a pristine “floating yoga studio” created with just a board and an anchor. Surrounded by nature\, we will flow through a complete yoga practice available to all levels. SUP yoga helps to build core strength and integration while cultivating awareness of the true present moment. Beginner (Floating Yoga) on Saturdays and Intermediate on Sundays (Open/Experienced Yoga) classes are available. All necessary equipment included. \nBook Now!*To arrange a private class please call to book
URL:https://blockade-runner.com/event/sup-yoga-intermediate/
CATEGORIES:Yoga
END:VEVENT
BEGIN:VEVENT
DTSTART;TZID=America/New_York:20230605T090000
DTEND;TZID=America/New_York:20230605T130000
DTSTAMP:20260425T102838
CREATED:20230216T152402Z
LAST-MODIFIED:20230818T192405Z
UID:19820-1685955600-1685970000@admin.blockade-runner.com
SUMMARY:Sandcampers Kayaking
DESCRIPTION:Get up close and personal with the wildlife on the Soundside. After a brief safety talk\, campers will load up in kayaks head towards the marsh\, where they will learn about pluff mud\, oyster beds\, marine life and much\, much more. Upon return to the Soundside\, campers will enjoy lunch and games before heading back to meet their parents. \nBook Here!
URL:https://blockade-runner.com/event/sandcampers-kayaking/
CATEGORIES:Kids Activities
END:VEVENT
BEGIN:VEVENT
DTSTART;TZID=America/New_York:20230530T090000
DTEND;TZID=America/New_York:20230530T130000
DTSTAMP:20260425T102838
CREATED:20230216T153150Z
LAST-MODIFIED:20230818T192320Z
UID:19823-1685437200-1685451600@admin.blockade-runner.com
SUMMARY:Sandcampers Surfing or SUP
DESCRIPTION:Ages 6 & 7 will use body boards\nAges 8-12 have the option to surf on a board or play on body boards.\n\nRash guards and lunch included.\n\nDuration\n4 hours: 9a-1p (Total surfing time will be a maximum of 1.5 hours)\n\nAbout\nTake advantage of one of the area’s most amazing resources and join our Sandcampers Surfing 1/2 day camp. Wake-up to the waves breaking directly in front of the resort\, and learn the basics of surfing or body boarding. The BR Surf Instructors will provide a safe learning experience\, offering a 2:1 student to instructor ratio and a max of 4 students.\n\nRestrictions\nAll participants must be resort guests\, proficient swimmers and at least 6 years old.\n\nBook Here!
URL:https://blockade-runner.com/event/sandcampers-surfing/
CATEGORIES:Kids Activities
END:VEVENT
BEGIN:VEVENT
DTSTART;TZID=America/New_York:20230601T090000
DTEND;TZID=America/New_York:20230601T130000
DTSTAMP:20260425T102838
CREATED:20230216T151143Z
LAST-MODIFIED:20230216T152839Z
UID:19813-1685610000-1685624400@admin.blockade-runner.com
SUMMARY:Sandcampers Touch Tank
DESCRIPTION:Explore and discover life on the Soundside. With the assistance of the Blockade Runner Sandcamper Counselor\, each child will be able to create their own touch tank on the Soundside. Cannonball jellyfish\, hermit crabs\, red and green algae\, and other coastal critters can be found to fill up the tank. Finish the day off with games on the sound and a boxed lunch.  \nBook Here!
URL:https://blockade-runner.com/event/sandcampers-touch-tank/
CATEGORIES:Kids Activities
END:VEVENT
BEGIN:VEVENT
DTSTART;TZID=America/New_York:20230527T080000
DTEND;TZID=America/New_York:20230527T093000
DTSTAMP:20260425T102838
CREATED:20230518T153819Z
LAST-MODIFIED:20230518T153819Z
UID:20043-1685174400-1685179800@admin.blockade-runner.com
SUMMARY:SUP Yoga (Beginners)
DESCRIPTION:Take Your Yoga Practice off Land & onto the Water \n\nRates (Reservations Required)\n$40 per Person\, Ages 13 and Older\n(additional booking fees applied at checkout) \nDuration: 1-1.5 Hours \nAbout (Seasonal: Available May-Sept)\nLearn the fundamentals of paddleboarding first on land with a review of water safety and then join us in the water as we warm up with a paddle to a pristine “floating yoga studio” created with just a board and an anchor. Surrounded by nature\, we will flow through a complete yoga practice available to all levels. SUP yoga helps to build core strength and integration while cultivating awareness of the true present moment. Beginner (Floating Yoga) on Saturdays and Intermediate on Sundays (Open/Experienced Yoga) classes are available. All necessary equipment included. \nBook Now!*To arrange a private class please call to book
URL:https://blockade-runner.com/event/sup-yoga-beginners/
CATEGORIES:Yoga
END:VEVENT
END:VCALENDAR