BEGIN:VCALENDAR
VERSION:2.0
PRODID:-//Blockade Runner (Now Trailborn Surf &amp; Sound) - ECPv6.6.4.2//NONSGML v1.0//EN
CALSCALE:GREGORIAN
METHOD:PUBLISH
X-WR-CALNAME:Blockade Runner (Now Trailborn Surf &amp; Sound)
X-ORIGINAL-URL:https://admin.blockade-runner.com
X-WR-CALDESC:Events for Blockade Runner (Now Trailborn Surf &amp; Sound)
REFRESH-INTERVAL;VALUE=DURATION:PT1H
X-Robots-Tag:noindex
X-PUBLISHED-TTL:PT1H
BEGIN:VTIMEZONE
TZID:UTC
BEGIN:STANDARD
TZOFFSETFROM:+0000
TZOFFSETTO:+0000
TZNAME:UTC
DTSTART:20230101T000000
END:STANDARD
TZID:America/New_York
BEGIN:DAYLIGHT
TZOFFSETFROM:-0500
TZOFFSETTO:-0400
TZNAME:EDT
DTSTART:20240310T070000
END:DAYLIGHT
BEGIN:STANDARD
TZOFFSETFROM:-0400
TZOFFSETTO:-0500
TZNAME:EST
DTSTART:20241103T060000
END:STANDARD
END:VTIMEZONE
BEGIN:VEVENT
DTSTART;VALUE=DATE:20230422
DTEND;VALUE=DATE:20230423
DTSTAMP:20260425T122705
CREATED:20230210T200541Z
LAST-MODIFIED:20240417T153319Z
UID:19770-1682121600-1682207999@admin.blockade-runner.com
SUMMARY:Earth Day
DESCRIPTION:
URL:https://blockade-runner.com/event/earth-day-3/
CATEGORIES:Holiday
END:VEVENT
BEGIN:VEVENT
DTSTART;VALUE=DATE:20241231
DTEND;VALUE=DATE:20250101
DTSTAMP:20260425T122705
CREATED:20240417T154203Z
LAST-MODIFIED:20240417T154203Z
UID:20644-1735603200-1735689599@admin.blockade-runner.com
SUMMARY:New Year's Eve
DESCRIPTION:
URL:https://blockade-runner.com/event/new-years-eve/
CATEGORIES:Holiday
END:VEVENT
BEGIN:VEVENT
DTSTART;VALUE=DATE:20241225
DTEND;VALUE=DATE:20241226
DTSTAMP:20260425T122705
CREATED:20240417T154121Z
LAST-MODIFIED:20240417T154121Z
UID:20642-1735084800-1735171199@admin.blockade-runner.com
SUMMARY:Christmas
DESCRIPTION:
URL:https://blockade-runner.com/event/christmas/
CATEGORIES:Holiday
END:VEVENT
BEGIN:VEVENT
DTSTART;VALUE=DATE:20241128
DTEND;VALUE=DATE:20241129
DTSTAMP:20260425T122705
CREATED:20240417T154036Z
LAST-MODIFIED:20240417T154036Z
UID:20640-1732752000-1732838399@admin.blockade-runner.com
SUMMARY:Thanksgiving
DESCRIPTION:
URL:https://blockade-runner.com/event/thanksgiving/
CATEGORIES:Holiday
END:VEVENT
BEGIN:VEVENT
DTSTART;VALUE=DATE:20241111
DTEND;VALUE=DATE:20241112
DTSTAMP:20260425T122705
CREATED:20240417T153934Z
LAST-MODIFIED:20240417T153934Z
UID:20638-1731283200-1731369599@admin.blockade-runner.com
SUMMARY:Veterans Day
DESCRIPTION:
URL:https://blockade-runner.com/event/veterans-day/
CATEGORIES:Holiday
END:VEVENT
BEGIN:VEVENT
DTSTART;VALUE=DATE:20241031
DTEND;VALUE=DATE:20241101
DTSTAMP:20260425T122705
CREATED:20240417T153841Z
LAST-MODIFIED:20240417T153841Z
UID:20636-1730332800-1730419199@admin.blockade-runner.com
SUMMARY:Halloween
DESCRIPTION:
URL:https://blockade-runner.com/event/halloween/
CATEGORIES:Holiday
END:VEVENT
BEGIN:VEVENT
DTSTART;VALUE=DATE:20240902
DTEND;VALUE=DATE:20240903
DTSTAMP:20260425T122705
CREATED:20240417T153813Z
LAST-MODIFIED:20240417T153813Z
UID:20634-1725235200-1725321599@admin.blockade-runner.com
SUMMARY:Labor Day
DESCRIPTION:
URL:https://blockade-runner.com/event/labor-day-2/
CATEGORIES:Holiday
END:VEVENT
BEGIN:VEVENT
DTSTART;VALUE=DATE:20240704
DTEND;VALUE=DATE:20240705
DTSTAMP:20260425T122705
CREATED:20240417T153726Z
LAST-MODIFIED:20240417T153726Z
UID:20632-1720051200-1720137599@admin.blockade-runner.com
SUMMARY:Independence Day
DESCRIPTION:
URL:https://blockade-runner.com/event/independence-day-2/
CATEGORIES:Holiday
END:VEVENT
BEGIN:VEVENT
DTSTART;VALUE=DATE:20240616
DTEND;VALUE=DATE:20240617
DTSTAMP:20260425T122705
CREATED:20240417T153648Z
LAST-MODIFIED:20240417T153648Z
UID:20630-1718496000-1718582399@admin.blockade-runner.com
SUMMARY:Father's Day
DESCRIPTION:
URL:https://blockade-runner.com/event/fathers-day-2/
CATEGORIES:Holiday
END:VEVENT
BEGIN:VEVENT
DTSTART;VALUE=DATE:20240527
DTEND;VALUE=DATE:20240528
DTSTAMP:20260425T122705
CREATED:20240417T153556Z
LAST-MODIFIED:20240417T153556Z
UID:20628-1716768000-1716854399@admin.blockade-runner.com
SUMMARY:Memorial Day
DESCRIPTION:
URL:https://blockade-runner.com/event/memorial-day/
END:VEVENT
BEGIN:VEVENT
DTSTART;VALUE=DATE:20240512
DTEND;VALUE=DATE:20240513
DTSTAMP:20260425T122705
CREATED:20240417T153432Z
LAST-MODIFIED:20240417T153432Z
UID:20626-1715472000-1715558399@admin.blockade-runner.com
SUMMARY:Mother's Day
DESCRIPTION:
URL:https://blockade-runner.com/event/mothers-day/
END:VEVENT
BEGIN:VEVENT
DTSTART;VALUE=DATE:20230505
DTEND;VALUE=DATE:20230506
DTSTAMP:20260425T122705
CREATED:20230210T200331Z
LAST-MODIFIED:20240417T144811Z
UID:19766-1683244800-1683331199@admin.blockade-runner.com
SUMMARY:Cinco de Mayo
DESCRIPTION:
URL:https://blockade-runner.com/event/cinco-de-mayo/
CATEGORIES:Holiday
END:VEVENT
BEGIN:VEVENT
DTSTART;VALUE=DATE:20230422
DTEND;VALUE=DATE:20230423
DTSTAMP:20260425T122705
CREATED:20230210T200541Z
LAST-MODIFIED:20240417T153319Z
UID:19770-1682121600-1682207999@admin.blockade-runner.com
SUMMARY:Earth Day
DESCRIPTION:
URL:https://blockade-runner.com/event/earth-day-3/
CATEGORIES:Holiday
END:VEVENT
BEGIN:VEVENT
DTSTART;VALUE=DATE:20241231
DTEND;VALUE=DATE:20250101
DTSTAMP:20260425T122705
CREATED:20240417T154203Z
LAST-MODIFIED:20240417T154203Z
UID:20644-1735603200-1735689599@admin.blockade-runner.com
SUMMARY:New Year's Eve
DESCRIPTION:
URL:https://blockade-runner.com/event/new-years-eve/
CATEGORIES:Holiday
END:VEVENT
BEGIN:VEVENT
DTSTART;VALUE=DATE:20241225
DTEND;VALUE=DATE:20241226
DTSTAMP:20260425T122705
CREATED:20240417T154121Z
LAST-MODIFIED:20240417T154121Z
UID:20642-1735084800-1735171199@admin.blockade-runner.com
SUMMARY:Christmas
DESCRIPTION:
URL:https://blockade-runner.com/event/christmas/
CATEGORIES:Holiday
END:VEVENT
BEGIN:VEVENT
DTSTART;TZID=America/New_York:20240420T090000
DTEND;TZID=America/New_York:20240420T100000
DTSTAMP:20260425T122705
CREATED:20240417T153206Z
LAST-MODIFIED:20240417T153206Z
UID:20623-1713603600-1713607200@admin.blockade-runner.com
SUMMARY:Greenfield Lake Nature Walks
DESCRIPTION:Located at Greenfield Park \nADMISSION \nNo registration required | Please bring sunscreen\, insect repellent\, water and comfortable walking shoes. \nEVENT TIMES\n9:00 AM to 10:00 AM \nABOUT\nJoin the knowledgeable guides from Cape Fear Bird Observatory and their partners for a family friendly fun nature walk! Meeting at the Greenfield Lake boathouse (near the tennis courts) for an informational session usually beginning at 9:00 AM followed by a narrated 60 minute stroll around the lake looking at interesting birds\, plants\, mammals\, reptiles\, and other fascinating wild things. All are welcome! No registration required. Please bring sunscreen\, insect repellent\, water and comfortable walking shoes.
URL:https://blockade-runner.com/event/greenfield-lake-nature-walks/
CATEGORIES:Kids Activities,Local Events
END:VEVENT
BEGIN:VEVENT
DTSTART;TZID=America/New_York:20240424T080000
DTEND;TZID=America/New_York:20240424T100000
DTSTAMP:20260425T122705
CREATED:20240417T154901Z
LAST-MODIFIED:20240417T154901Z
UID:20647-1713945600-1713952800@admin.blockade-runner.com
SUMMARY:Carolina Beach Bird Walk
DESCRIPTION:Explore Carolina Beach State Park on a guided bird walk led by park staff along Snows Cut Trail.  No previous experience is necessary. Beginning at the Marina\, the easy hike will be approximately two miles long over flat terrain lasting approximately two hours. Both novice and avid birders will enjoy the adventure of finding resident and visiting birds in the beautiful terrain. Be sure to bring your own sunscreen\, binoculars\, drinking water\, and insect repellent. \nFree to attend
URL:https://blockade-runner.com/event/carolina-beach-bird-walk/
CATEGORIES:Monthly Events,Local Events
END:VEVENT
BEGIN:VEVENT
DTSTART;VALUE=DATE:20241128
DTEND;VALUE=DATE:20241129
DTSTAMP:20260425T122705
CREATED:20240417T154036Z
LAST-MODIFIED:20240417T154036Z
UID:20640-1732752000-1732838399@admin.blockade-runner.com
SUMMARY:Thanksgiving
DESCRIPTION:
URL:https://blockade-runner.com/event/thanksgiving/
CATEGORIES:Holiday
END:VEVENT
BEGIN:VEVENT
DTSTART;TZID=America/New_York:20240424T080000
DTEND;TZID=America/New_York:20240424T100000
DTSTAMP:20260425T122705
CREATED:20240417T154901Z
LAST-MODIFIED:20240417T154901Z
UID:20647-1713945600-1713952800@admin.blockade-runner.com
SUMMARY:Carolina Beach Bird Walk
DESCRIPTION:Explore Carolina Beach State Park on a guided bird walk led by park staff along Snows Cut Trail.  No previous experience is necessary. Beginning at the Marina\, the easy hike will be approximately two miles long over flat terrain lasting approximately two hours. Both novice and avid birders will enjoy the adventure of finding resident and visiting birds in the beautiful terrain. Be sure to bring your own sunscreen\, binoculars\, drinking water\, and insect repellent. \nFree to attend
URL:https://blockade-runner.com/event/carolina-beach-bird-walk/
CATEGORIES:Monthly Events,Local Events
END:VEVENT
BEGIN:VEVENT
DTSTART;TZID=America/New_York:20240420T090000
DTEND;TZID=America/New_York:20240420T100000
DTSTAMP:20260425T122705
CREATED:20240417T153206Z
LAST-MODIFIED:20240417T153206Z
UID:20623-1713603600-1713607200@admin.blockade-runner.com
SUMMARY:Greenfield Lake Nature Walks
DESCRIPTION:Located at Greenfield Park \nADMISSION \nNo registration required | Please bring sunscreen\, insect repellent\, water and comfortable walking shoes. \nEVENT TIMES\n9:00 AM to 10:00 AM \nABOUT\nJoin the knowledgeable guides from Cape Fear Bird Observatory and their partners for a family friendly fun nature walk! Meeting at the Greenfield Lake boathouse (near the tennis courts) for an informational session usually beginning at 9:00 AM followed by a narrated 60 minute stroll around the lake looking at interesting birds\, plants\, mammals\, reptiles\, and other fascinating wild things. All are welcome! No registration required. Please bring sunscreen\, insect repellent\, water and comfortable walking shoes.
URL:https://blockade-runner.com/event/greenfield-lake-nature-walks/
CATEGORIES:Kids Activities,Local Events
END:VEVENT
BEGIN:VEVENT
DTSTART;VALUE=DATE:20241111
DTEND;VALUE=DATE:20241112
DTSTAMP:20260425T122705
CREATED:20240417T153934Z
LAST-MODIFIED:20240417T153934Z
UID:20638-1731283200-1731369599@admin.blockade-runner.com
SUMMARY:Veterans Day
DESCRIPTION:
URL:https://blockade-runner.com/event/veterans-day/
CATEGORIES:Holiday
END:VEVENT
BEGIN:VEVENT
DTSTART;VALUE=DATE:20241031
DTEND;VALUE=DATE:20241101
DTSTAMP:20260425T122705
CREATED:20240417T153841Z
LAST-MODIFIED:20240417T153841Z
UID:20636-1730332800-1730419199@admin.blockade-runner.com
SUMMARY:Halloween
DESCRIPTION:
URL:https://blockade-runner.com/event/halloween/
CATEGORIES:Holiday
END:VEVENT
BEGIN:VEVENT
DTSTART;TZID=America/New_York:20240420T090000
DTEND;TZID=America/New_York:20240420T100000
DTSTAMP:20260425T122705
CREATED:20240417T153206Z
LAST-MODIFIED:20240417T153206Z
UID:20623-1713603600-1713607200@admin.blockade-runner.com
SUMMARY:Greenfield Lake Nature Walks
DESCRIPTION:Located at Greenfield Park \nADMISSION \nNo registration required | Please bring sunscreen\, insect repellent\, water and comfortable walking shoes. \nEVENT TIMES\n9:00 AM to 10:00 AM \nABOUT\nJoin the knowledgeable guides from Cape Fear Bird Observatory and their partners for a family friendly fun nature walk! Meeting at the Greenfield Lake boathouse (near the tennis courts) for an informational session usually beginning at 9:00 AM followed by a narrated 60 minute stroll around the lake looking at interesting birds\, plants\, mammals\, reptiles\, and other fascinating wild things. All are welcome! No registration required. Please bring sunscreen\, insect repellent\, water and comfortable walking shoes.
URL:https://blockade-runner.com/event/greenfield-lake-nature-walks/
CATEGORIES:Kids Activities,Local Events
END:VEVENT
BEGIN:VEVENT
DTSTART;TZID=America/New_York:20240424T080000
DTEND;TZID=America/New_York:20240424T100000
DTSTAMP:20260425T122705
CREATED:20240417T154901Z
LAST-MODIFIED:20240417T154901Z
UID:20647-1713945600-1713952800@admin.blockade-runner.com
SUMMARY:Carolina Beach Bird Walk
DESCRIPTION:Explore Carolina Beach State Park on a guided bird walk led by park staff along Snows Cut Trail.  No previous experience is necessary. Beginning at the Marina\, the easy hike will be approximately two miles long over flat terrain lasting approximately two hours. Both novice and avid birders will enjoy the adventure of finding resident and visiting birds in the beautiful terrain. Be sure to bring your own sunscreen\, binoculars\, drinking water\, and insect repellent. \nFree to attend
URL:https://blockade-runner.com/event/carolina-beach-bird-walk/
CATEGORIES:Monthly Events,Local Events
END:VEVENT
BEGIN:VEVENT
DTSTART;TZID=America/New_York:20240630T150000
DTEND;TZID=America/New_York:20240630T190000
DTSTAMP:20260425T122705
CREATED:20240417T145652Z
LAST-MODIFIED:20240417T145652Z
UID:20620-1719759600-1719774000@admin.blockade-runner.com
SUMMARY:Half-Day Catamaran Sail
DESCRIPTION:Set sail aboard Bella\, our 44′ catamaran! On this 4hr private charter\, you will sail around the waterways of Wrightsville Beach and Atlantic Ocean. You will work with your captain to plan your perfect itinerary of islands and local spots. Upon anchoring\, the crew will dinghy you around wherever you’d like to go! \nThe boat is fully equipped with air conditioning and generator\, sound system\, grill\, and many comfortable spots to relax! Enjoy all the comforts of home while out on the water. \nExplore the “WBVIs!” We’ve coined this name after spending time in the British Virgin Islands\, and are bringing the best parts of the islands to WB. Just as the Caribbean has an abundance of anchorages to reach by sailboat\, so does Wrightsville Beach! Each destination you choose to visit has its own unique vibe\, just like you and your crew… \nMasonboro Island\nPalm Tree Island\nGoat Island\nMoney Island\nICW rope swing\nMasonboro inlet and jetty\noffshore Atlantic Ocean\nDockside Waterfront Bar and Grill\nJimmy’s WB \nCustomize this cruise to your liking – enjoy a serene Masonboro Island\, party at Palm Tree Island\, swing on a rope swing along the ICW\, or stop for drinks at Dockside’s waterfront bar. \nWe’ll have a 6-pack of Caribbean beer and a bottle of rum with tropical mixers waiting for you onboard. Catering options available. You’re also welcome to BYOB! \nBook Now!
URL:https://blockade-runner.com/event/half-day-catamaran-sail-4/
CATEGORIES:Sailing
END:VEVENT
BEGIN:VEVENT
DTSTART;TZID=America/New_York:20240630T100000
DTEND;TZID=America/New_York:20240630T140000
DTSTAMP:20260425T122705
CREATED:20240417T145551Z
LAST-MODIFIED:20240417T145551Z
UID:20618-1719741600-1719756000@admin.blockade-runner.com
SUMMARY:Half-Day Catamaran Sail
DESCRIPTION:Set sail aboard Bella\, our 44′ catamaran! On this 4hr private charter\, you will sail around the waterways of Wrightsville Beach and Atlantic Ocean. You will work with your captain to plan your perfect itinerary of islands and local spots. Upon anchoring\, the crew will dinghy you around wherever you’d like to go! \nThe boat is fully equipped with air conditioning and generator\, sound system\, grill\, and many comfortable spots to relax! Enjoy all the comforts of home while out on the water. \nExplore the “WBVIs!” We’ve coined this name after spending time in the British Virgin Islands\, and are bringing the best parts of the islands to WB. Just as the Caribbean has an abundance of anchorages to reach by sailboat\, so does Wrightsville Beach! Each destination you choose to visit has its own unique vibe\, just like you and your crew… \nMasonboro Island\nPalm Tree Island\nGoat Island\nMoney Island\nICW rope swing\nMasonboro inlet and jetty\noffshore Atlantic Ocean\nDockside Waterfront Bar and Grill\nJimmy’s WB \nCustomize this cruise to your liking – enjoy a serene Masonboro Island\, party at Palm Tree Island\, swing on a rope swing along the ICW\, or stop for drinks at Dockside’s waterfront bar. \nWe’ll have a 6-pack of Caribbean beer and a bottle of rum with tropical mixers waiting for you onboard. Catering options available. You’re also welcome to BYOB! \nBook Now!
URL:https://blockade-runner.com/event/half-day-catamaran-sail-3/
CATEGORIES:Sailing
END:VEVENT
BEGIN:VEVENT
DTSTART;TZID=America/New_York:20240629T183000
DTEND;TZID=America/New_York:20240629T203000
DTSTAMP:20260425T122705
CREATED:20240417T144032Z
LAST-MODIFIED:20240417T144032Z
UID:20609-1719685800-1719693000@admin.blockade-runner.com
SUMMARY:Cocktail Sail
DESCRIPTION:Set sail and explore Masonboro Island! \nHelp raise the sails aboard ‘Zoe’\, the newest addition to the Blockade Runner fleet. On this three-hour sailing adventure\, you will sail past the south end of Wrightsville Beach and head towards the Atlantic Ocean through Masonboro Inlet. After experiencing the thrill of sailing in the ocean\, we’ll anchor behind Masonboro Island\, North Carolina’s largest undisturbed barrier island\, for some exploration and relaxation. \nBook Now!
URL:https://blockade-runner.com/event/cocktail-sail-3/
CATEGORIES:Food and Beverage,Sailing
END:VEVENT
BEGIN:VEVENT
DTSTART;TZID=America/New_York:20240615T130000
DTEND;TZID=America/New_York:20240615T170000
DTSTAMP:20260425T122705
CREATED:20240417T145337Z
LAST-MODIFIED:20240417T145337Z
UID:20616-1718456400-1718470800@admin.blockade-runner.com
SUMMARY:Half-Day Catamaran Sail
DESCRIPTION:Set sail aboard Bella\, our 44′ catamaran! On this 4hr private charter\, you will sail around the waterways of Wrightsville Beach and Atlantic Ocean. You will work with your captain to plan your perfect itinerary of islands and local spots. Upon anchoring\, the crew will dinghy you around wherever you’d like to go! \nThe boat is fully equipped with air conditioning and generator\, sound system\, grill\, and many comfortable spots to relax! Enjoy all the comforts of home while out on the water. \nExplore the “WBVIs!” We’ve coined this name after spending time in the British Virgin Islands\, and are bringing the best parts of the islands to WB. Just as the Caribbean has an abundance of anchorages to reach by sailboat\, so does Wrightsville Beach! Each destination you choose to visit has its own unique vibe\, just like you and your crew… \nMasonboro Island\nPalm Tree Island\nGoat Island\nMoney Island\nICW rope swing\nMasonboro inlet and jetty\noffshore Atlantic Ocean\nDockside Waterfront Bar and Grill\nJimmy’s WB \nCustomize this cruise to your liking – enjoy a serene Masonboro Island\, party at Palm Tree Island\, swing on a rope swing along the ICW\, or stop for drinks at Dockside’s waterfront bar. \nWe’ll have a 6-pack of Caribbean beer and a bottle of rum with tropical mixers waiting for you onboard. Catering options available. You’re also welcome to BYOB! \nBook Now!
URL:https://blockade-runner.com/event/half-day-catamaran-sail-2/
CATEGORIES:Sailing
END:VEVENT
BEGIN:VEVENT
DTSTART;TZID=America/New_York:20240522T183000
DTEND;TZID=America/New_York:20240522T203000
DTSTAMP:20260425T122705
CREATED:20240417T143928Z
LAST-MODIFIED:20240417T143928Z
UID:20607-1716402600-1716409800@admin.blockade-runner.com
SUMMARY:Cocktail Sail
DESCRIPTION:Set sail and explore Masonboro Island! \nHelp raise the sails aboard ‘Zoe’\, the newest addition to the Blockade Runner fleet. On this three-hour sailing adventure\, you will sail past the south end of Wrightsville Beach and head towards the Atlantic Ocean through Masonboro Inlet. After experiencing the thrill of sailing in the ocean\, we’ll anchor behind Masonboro Island\, North Carolina’s largest undisturbed barrier island\, for some exploration and relaxation. \nBook Now!
URL:https://blockade-runner.com/event/cocktail-sail-2/
CATEGORIES:Food and Beverage,Sailing
END:VEVENT
BEGIN:VEVENT
DTSTART;TZID=America/New_York:20240527T130000
DTEND;TZID=America/New_York:20240527T170000
DTSTAMP:20260425T122705
CREATED:20240417T145229Z
LAST-MODIFIED:20240417T145229Z
UID:20614-1716814800-1716829200@admin.blockade-runner.com
SUMMARY:Half-Day Catamaran Sail
DESCRIPTION:Set sail aboard Bella\, our 44′ catamaran! On this 4hr private charter\, you will sail around the waterways of Wrightsville Beach and Atlantic Ocean. You will work with your captain to plan your perfect itinerary of islands and local spots. Upon anchoring\, the crew will dinghy you around wherever you’d like to go! \nThe boat is fully equipped with air conditioning and generator\, sound system\, grill\, and many comfortable spots to relax! Enjoy all the comforts of home while out on the water. \nExplore the “WBVIs!” We’ve coined this name after spending time in the British Virgin Islands\, and are bringing the best parts of the islands to WB. Just as the Caribbean has an abundance of anchorages to reach by sailboat\, so does Wrightsville Beach! Each destination you choose to visit has its own unique vibe\, just like you and your crew… \nMasonboro Island\nPalm Tree Island\nGoat Island\nMoney Island\nICW rope swing\nMasonboro inlet and jetty\noffshore Atlantic Ocean\nDockside Waterfront Bar and Grill\nJimmy’s WB \nCustomize this cruise to your liking – enjoy a serene Masonboro Island\, party at Palm Tree Island\, swing on a rope swing along the ICW\, or stop for drinks at Dockside’s waterfront bar. \nWe’ll have a 6-pack of Caribbean beer and a bottle of rum with tropical mixers waiting for you onboard. Catering options available. You’re also welcome to BYOB! \nBook Now!
URL:https://blockade-runner.com/event/half-day-catamaran-sail/
CATEGORIES:Sailing
END:VEVENT
END:VCALENDAR