BEGIN:VCALENDAR
VERSION:2.0
PRODID:-//Blockade Runner (Now Trailborn Surf &amp; Sound) - ECPv6.6.4.2//NONSGML v1.0//EN
CALSCALE:GREGORIAN
METHOD:PUBLISH
X-WR-CALNAME:Blockade Runner (Now Trailborn Surf &amp; Sound)
X-ORIGINAL-URL:https://admin.blockade-runner.com
X-WR-CALDESC:Events for Blockade Runner (Now Trailborn Surf &amp; Sound)
REFRESH-INTERVAL;VALUE=DURATION:PT1H
X-Robots-Tag:noindex
X-PUBLISHED-TTL:PT1H
BEGIN:VTIMEZONE
TZID:UTC
BEGIN:STANDARD
TZOFFSETFROM:+0000
TZOFFSETTO:+0000
TZNAME:UTC
DTSTART:20230101T000000
END:STANDARD
END:VTIMEZONE
BEGIN:VEVENT
DTSTART;VALUE=DATE:20230317
DTEND;VALUE=DATE:20230318
DTSTAMP:20260425T063110
CREATED:20230210T195926Z
LAST-MODIFIED:20230210T195926Z
UID:19760-1679011200-1679097599@admin.blockade-runner.com
SUMMARY:St. Patrick's Day
DESCRIPTION:
URL:https://blockade-runner.com/event/st-patricks-day/
CATEGORIES:Holiday
END:VEVENT
END:VCALENDAR